BEGIN:VCALENDAR
VERSION:2.0
PRODID:-//Vilafortunytraining - ECPv6.2.9//NONSGML v1.0//EN
CALSCALE:GREGORIAN
METHOD:PUBLISH
X-ORIGINAL-URL:https://vilafortunytraining.com
X-WR-CALDESC:Events for Vilafortunytraining
REFRESH-INTERVAL;VALUE=DURATION:PT1H
X-Robots-Tag:noindex
X-PUBLISHED-TTL:PT1H
BEGIN:VTIMEZONE
TZID:UTC
BEGIN:STANDARD
TZOFFSETFROM:+0000
TZOFFSETTO:+0000
TZNAME:UTC
DTSTART:20250101T000000
END:STANDARD
END:VTIMEZONE
BEGIN:VEVENT
DTSTART;VALUE=DATE:20250726
DTEND;VALUE=DATE:20250728
DTSTAMP:20260423T081538
CREATED:20240123T074331Z
LAST-MODIFIED:20250120T135021Z
UID:5976-1753488000-1753660799@vilafortunytraining.com
SUMMARY:Laser Technician
DESCRIPTION:
URL:https://vilafortunytraining.com/event/laser-technician-4/
END:VEVENT
BEGIN:VEVENT
DTSTART;VALUE=DATE:20250726
DTEND;VALUE=DATE:20250728
DTSTAMP:20260423T081538
CREATED:20240123T074358Z
LAST-MODIFIED:20250120T134919Z
UID:5978-1753488000-1753660799@vilafortunytraining.com
SUMMARY:Fillers & Botox
DESCRIPTION:
URL:https://vilafortunytraining.com/event/fillers-botox-4/
END:VEVENT
END:VCALENDAR