BEGIN:VCALENDAR
VERSION:2.0
PRODID:-//Vilafortunytraining - ECPv6.2.9//NONSGML v1.0//EN
CALSCALE:GREGORIAN
METHOD:PUBLISH
X-WR-CALNAME:Vilafortunytraining
X-ORIGINAL-URL:https://vilafortunytraining.com
X-WR-CALDESC:Events for Vilafortunytraining
REFRESH-INTERVAL;VALUE=DURATION:PT1H
X-Robots-Tag:noindex
X-PUBLISHED-TTL:PT1H
BEGIN:VTIMEZONE
TZID:UTC
BEGIN:STANDARD
TZOFFSETFROM:+0000
TZOFFSETTO:+0000
TZNAME:UTC
DTSTART:20250101T000000
END:STANDARD
END:VTIMEZONE
BEGIN:VEVENT
DTSTART;VALUE=DATE:20251111
DTEND;VALUE=DATE:20251116
DTSTAMP:20260423T011926
CREATED:20240123T074120Z
LAST-MODIFIED:20250127T075618Z
UID:5970-1762819200-1763251199@vilafortunytraining.com
SUMMARY:Laser Technician
DESCRIPTION:
URL:https://vilafortunytraining.com/event/laser-technician-3/
END:VEVENT
END:VCALENDAR