BEGIN:VCALENDAR
VERSION:2.0
PRODID:-//Vilafortunytraining - ECPv6.2.9//NONSGML v1.0//EN
CALSCALE:GREGORIAN
METHOD:PUBLISH
X-WR-CALNAME:Vilafortunytraining
X-ORIGINAL-URL:https://vilafortunytraining.com
X-WR-CALDESC:Events for Vilafortunytraining
REFRESH-INTERVAL;VALUE=DURATION:PT1H
X-Robots-Tag:noindex
X-PUBLISHED-TTL:PT1H
BEGIN:VTIMEZONE
TZID:UTC
BEGIN:STANDARD
TZOFFSETFROM:+0000
TZOFFSETTO:+0000
TZNAME:UTC
DTSTART:20230101T000000
END:STANDARD
END:VTIMEZONE
BEGIN:VEVENT
DTSTART;VALUE=DATE:20250226
DTEND;VALUE=DATE:20250227
DTSTAMP:20260423T184301
CREATED:20250127T085842Z
LAST-MODIFIED:20250127T103846Z
UID:6452-1740528000-1740614399@vilafortunytraining.com
SUMMARY:Advanced Injectables
DESCRIPTION:
URL:https://vilafortunytraining.com/event/advanced-injectables/
END:VEVENT
BEGIN:VEVENT
DTSTART;VALUE=DATE:20250225
DTEND;VALUE=DATE:20250226
DTSTAMP:20260423T184301
CREATED:20230410T113100Z
LAST-MODIFIED:20250127T083956Z
UID:5542-1740441600-1740527999@vilafortunytraining.com
SUMMARY:Facial Mastery
DESCRIPTION:
URL:https://vilafortunytraining.com/event/soft-tissue-fillers-5/
END:VEVENT
BEGIN:VEVENT
DTSTART;VALUE=DATE:20250224
DTEND;VALUE=DATE:20250225
DTSTAMP:20260423T184301
CREATED:20240123T075859Z
LAST-MODIFIED:20250127T085215Z
UID:6027-1740355200-1740441599@vilafortunytraining.com
SUMMARY:Lip Masterclass
DESCRIPTION:
URL:https://vilafortunytraining.com/event/laser-technician-13/
END:VEVENT
BEGIN:VEVENT
DTSTART;VALUE=DATE:20250222
DTEND;VALUE=DATE:20250224
DTSTAMP:20260423T184301
CREATED:20240123T075519Z
LAST-MODIFIED:20250120T113748Z
UID:6014-1740182400-1740355199@vilafortunytraining.com
SUMMARY:Fillers & Botox
DESCRIPTION:
URL:https://vilafortunytraining.com/event/fillers-botox-10/
END:VEVENT
BEGIN:VEVENT
DTSTART;VALUE=DATE:20250219
DTEND;VALUE=DATE:20250222
DTSTAMP:20260423T184301
CREATED:20240123T075841Z
LAST-MODIFIED:20250120T112902Z
UID:6026-1739923200-1740182399@vilafortunytraining.com
SUMMARY:Laser Aesthetics
DESCRIPTION:
URL:https://vilafortunytraining.com/event/laser-aesthetics-4/
END:VEVENT
BEGIN:VEVENT
DTSTART;VALUE=DATE:20250211
DTEND;VALUE=DATE:20250216
DTSTAMP:20260423T184301
CREATED:20240123T075542Z
LAST-MODIFIED:20250120T113617Z
UID:6015-1739232000-1739663999@vilafortunytraining.com
SUMMARY:Laser Technician
DESCRIPTION:
URL:https://vilafortunytraining.com/event/laser-technician-11/
END:VEVENT
BEGIN:VEVENT
DTSTART;VALUE=DATE:20250131
DTEND;VALUE=DATE:20250201
DTSTAMP:20260423T184301
CREATED:20240123T075639Z
LAST-MODIFIED:20250120T113513Z
UID:6019-1738281600-1738367999@vilafortunytraining.com
SUMMARY:Chemical Peels
DESCRIPTION:
URL:https://vilafortunytraining.com/event/chemical-peels-7/
END:VEVENT
BEGIN:VEVENT
DTSTART;VALUE=DATE:20250125
DTEND;VALUE=DATE:20250127
DTSTAMP:20260423T184301
CREATED:20240123T075722Z
LAST-MODIFIED:20250120T113220Z
UID:6022-1737763200-1737935999@vilafortunytraining.com
SUMMARY:Fillers & Botox
DESCRIPTION:
URL:https://vilafortunytraining.com/event/fillers-botox-11/
END:VEVENT
BEGIN:VEVENT
DTSTART;VALUE=DATE:20250123
DTEND;VALUE=DATE:20250124
DTSTAMP:20260423T184301
CREATED:20240123T075619Z
LAST-MODIFIED:20250120T113543Z
UID:6018-1737590400-1737676799@vilafortunytraining.com
SUMMARY:Mesotherapy
DESCRIPTION:
URL:https://vilafortunytraining.com/event/mesotherapy-8/
END:VEVENT
BEGIN:VEVENT
DTSTART;VALUE=DATE:20250114
DTEND;VALUE=DATE:20250119
DTSTAMP:20260423T184301
CREATED:20240123T075746Z
LAST-MODIFIED:20250106T145310Z
UID:6023-1736812800-1737244799@vilafortunytraining.com
SUMMARY:Laser Technician
DESCRIPTION:
URL:https://vilafortunytraining.com/event/laser-technician-12/
END:VEVENT
BEGIN:VEVENT
DTSTART;VALUE=DATE:20231024
DTEND;VALUE=DATE:20231026
DTSTAMP:20260423T184301
CREATED:20221216T123756Z
LAST-MODIFIED:20221216T123756Z
UID:4735-1698105600-1698278399@vilafortunytraining.com
SUMMARY:Chemical Peels
DESCRIPTION:
URL:https://vilafortunytraining.com/event/chemical-peels-3/
END:VEVENT
BEGIN:VEVENT
DTSTART;VALUE=DATE:20231010
DTEND;VALUE=DATE:20231015
DTSTAMP:20260423T184301
CREATED:20221216T115237Z
LAST-MODIFIED:20230105T135954Z
UID:4689-1696896000-1697327999@vilafortunytraining.com
SUMMARY:Laser Training
DESCRIPTION:
URL:https://vilafortunytraining.com/event/laser-training-10/
END:VEVENT
BEGIN:VEVENT
DTSTART;VALUE=DATE:20230923
DTEND;VALUE=DATE:20230925
DTSTAMP:20260423T184301
CREATED:20221216T121424Z
LAST-MODIFIED:20221216T121424Z
UID:4703-1695427200-1695599999@vilafortunytraining.com
SUMMARY:Botulinum Toxins
DESCRIPTION:
URL:https://vilafortunytraining.com/event/botulinum-toxins-5/
END:VEVENT
BEGIN:VEVENT
DTSTART;VALUE=DATE:20230920
DTEND;VALUE=DATE:20230921
DTSTAMP:20260423T184301
CREATED:20221216T123206Z
LAST-MODIFIED:20221216T123206Z
UID:4725-1695168000-1695254399@vilafortunytraining.com
SUMMARY:Mesotherapy
DESCRIPTION:
URL:https://vilafortunytraining.com/event/mesotherapy-3/
END:VEVENT
BEGIN:VEVENT
DTSTART;VALUE=DATE:20230912
DTEND;VALUE=DATE:20230917
DTSTAMP:20260423T184301
CREATED:20221216T115123Z
LAST-MODIFIED:20230105T140008Z
UID:4687-1694476800-1694908799@vilafortunytraining.com
SUMMARY:Laser Training
DESCRIPTION:
URL:https://vilafortunytraining.com/event/laser-training-9/
END:VEVENT
BEGIN:VEVENT
DTSTART;VALUE=DATE:20230815
DTEND;VALUE=DATE:20230820
DTSTAMP:20260423T184301
CREATED:20221216T114945Z
LAST-MODIFIED:20230105T140017Z
UID:4685-1692057600-1692489599@vilafortunytraining.com
SUMMARY:Laser Training
DESCRIPTION:
URL:https://vilafortunytraining.com/event/laser-training-8/
END:VEVENT
BEGIN:VEVENT
DTSTART;VALUE=DATE:20230729
DTEND;VALUE=DATE:20230731
DTSTAMP:20260423T184301
CREATED:20221216T121352Z
LAST-MODIFIED:20221216T121352Z
UID:4698-1690588800-1690761599@vilafortunytraining.com
SUMMARY:Botulinum Toxins
DESCRIPTION:
URL:https://vilafortunytraining.com/event/botulinum-toxins-4/
END:VEVENT
BEGIN:VEVENT
DTSTART;VALUE=DATE:20230725
DTEND;VALUE=DATE:20230727
DTSTAMP:20260423T184301
CREATED:20221216T123741Z
LAST-MODIFIED:20221216T123741Z
UID:4736-1690243200-1690415999@vilafortunytraining.com
SUMMARY:Chemical Peels
DESCRIPTION:
URL:https://vilafortunytraining.com/event/chemical-peels-2/
END:VEVENT
BEGIN:VEVENT
DTSTART;VALUE=DATE:20230711
DTEND;VALUE=DATE:20230716
DTSTAMP:20260423T184301
CREATED:20221216T114720Z
LAST-MODIFIED:20230105T140021Z
UID:4683-1689033600-1689465599@vilafortunytraining.com
SUMMARY:Laser Training
DESCRIPTION:
URL:https://vilafortunytraining.com/event/laser-training-7/
END:VEVENT
BEGIN:VEVENT
DTSTART;VALUE=DATE:20230621
DTEND;VALUE=DATE:20230622
DTSTAMP:20260423T184301
CREATED:20221216T122657Z
LAST-MODIFIED:20221216T124319Z
UID:4721-1687305600-1687391999@vilafortunytraining.com
SUMMARY:Mesotherapy
DESCRIPTION:
URL:https://vilafortunytraining.com/event/mesotherapy-2/
END:VEVENT
BEGIN:VEVENT
DTSTART;VALUE=DATE:20230613
DTEND;VALUE=DATE:20230618
DTSTAMP:20260423T184301
CREATED:20221216T114622Z
LAST-MODIFIED:20230105T140033Z
UID:4681-1686614400-1687046399@vilafortunytraining.com
SUMMARY:Laser Training
DESCRIPTION:
URL:https://vilafortunytraining.com/event/laser-training-6/
END:VEVENT
BEGIN:VEVENT
DTSTART;VALUE=DATE:20230527
DTEND;VALUE=DATE:20230529
DTSTAMP:20260423T184301
CREATED:20221216T121306Z
LAST-MODIFIED:20221216T121306Z
UID:4699-1685145600-1685318399@vilafortunytraining.com
SUMMARY:Botulinum Toxins
DESCRIPTION:
URL:https://vilafortunytraining.com/event/botulinum-toxins-3/
END:VEVENT
BEGIN:VEVENT
DTSTART;VALUE=DATE:20230509
DTEND;VALUE=DATE:20230514
DTSTAMP:20260423T184301
CREATED:20221216T114516Z
LAST-MODIFIED:20230105T140039Z
UID:4679-1683590400-1684022399@vilafortunytraining.com
SUMMARY:Laser Training
DESCRIPTION:
URL:https://vilafortunytraining.com/event/laser-training-5/
END:VEVENT
BEGIN:VEVENT
DTSTART;VALUE=DATE:20230425
DTEND;VALUE=DATE:20230427
DTSTAMP:20260423T184301
CREATED:20221216T123604Z
LAST-MODIFIED:20221216T123604Z
UID:4733-1682380800-1682553599@vilafortunytraining.com
SUMMARY:Chemical Peels
DESCRIPTION:
URL:https://vilafortunytraining.com/event/chemical-peels/
END:VEVENT
BEGIN:VEVENT
DTSTART;VALUE=DATE:20230411
DTEND;VALUE=DATE:20230416
DTSTAMP:20260423T184301
CREATED:20221216T114336Z
LAST-MODIFIED:20230105T140043Z
UID:4677-1681171200-1681603199@vilafortunytraining.com
SUMMARY:Laser Training
DESCRIPTION:
URL:https://vilafortunytraining.com/event/laser-training-4/
END:VEVENT
BEGIN:VEVENT
DTSTART;VALUE=DATE:20230404
DTEND;VALUE=DATE:20230405
DTSTAMP:20260423T184301
CREATED:20221216T122610Z
LAST-MODIFIED:20230308T102330Z
UID:4719-1680566400-1680652799@vilafortunytraining.com
SUMMARY:Mesotherapy
DESCRIPTION:
URL:https://vilafortunytraining.com/event/mesotherapy/
END:VEVENT
BEGIN:VEVENT
DTSTART;VALUE=DATE:20230325
DTEND;VALUE=DATE:20230327
DTSTAMP:20260423T184301
CREATED:20221216T120243Z
LAST-MODIFIED:20221216T120243Z
UID:4697-1679702400-1679875199@vilafortunytraining.com
SUMMARY:Botulinum Toxins
DESCRIPTION:
URL:https://vilafortunytraining.com/event/botulinum-toxins-2/
END:VEVENT
BEGIN:VEVENT
DTSTART;VALUE=DATE:20230314
DTEND;VALUE=DATE:20230319
DTSTAMP:20260423T184301
CREATED:20221216T114235Z
LAST-MODIFIED:20230105T140047Z
UID:4675-1678752000-1679183999@vilafortunytraining.com
SUMMARY:Laser Training
DESCRIPTION:
URL:https://vilafortunytraining.com/event/laser-training-3/
END:VEVENT
BEGIN:VEVENT
DTSTART;VALUE=DATE:20230214
DTEND;VALUE=DATE:20230219
DTSTAMP:20260423T184301
CREATED:20221216T114108Z
LAST-MODIFIED:20230105T140056Z
UID:4673-1676332800-1676764799@vilafortunytraining.com
SUMMARY:Laser Training
DESCRIPTION:
URL:https://vilafortunytraining.com/event/laser-training-2/
END:VEVENT
BEGIN:VEVENT
DTSTART;VALUE=DATE:20230128
DTEND;VALUE=DATE:20230130
DTSTAMP:20260423T184301
CREATED:20221216T120135Z
LAST-MODIFIED:20221216T120135Z
UID:4695-1674864000-1675036799@vilafortunytraining.com
SUMMARY:Botulinum Toxins
DESCRIPTION:
URL:https://vilafortunytraining.com/event/botulinum-toxins/
END:VEVENT
END:VCALENDAR