BEGIN:VCALENDAR
VERSION:2.0
PRODID:-//Vilafortunytraining - ECPv6.2.9//NONSGML v1.0//EN
CALSCALE:GREGORIAN
METHOD:PUBLISH
X-WR-CALNAME:Vilafortunytraining
X-ORIGINAL-URL:https://vilafortunytraining.com
X-WR-CALDESC:Events for Vilafortunytraining
REFRESH-INTERVAL;VALUE=DURATION:PT1H
X-Robots-Tag:noindex
X-PUBLISHED-TTL:PT1H
BEGIN:VTIMEZONE
TZID:UTC
BEGIN:STANDARD
TZOFFSETFROM:+0000
TZOFFSETTO:+0000
TZNAME:UTC
DTSTART:20230101T000000
END:STANDARD
END:VTIMEZONE
BEGIN:VEVENT
DTSTART;VALUE=DATE:20250702
DTEND;VALUE=DATE:20250703
DTSTAMP:20260423T114055
CREATED:20250127T104346Z
LAST-MODIFIED:20250127T104346Z
UID:6456-1751414400-1751500799@vilafortunytraining.com
SUMMARY:Advanced Injectables
DESCRIPTION:
URL:https://vilafortunytraining.com/event/advanced-injectables-3/
END:VEVENT
BEGIN:VEVENT
DTSTART;VALUE=DATE:20250701
DTEND;VALUE=DATE:20250702
DTSTAMP:20260423T114055
CREATED:20250127T084205Z
LAST-MODIFIED:20250127T084205Z
UID:6444-1751328000-1751414399@vilafortunytraining.com
SUMMARY:Facial Mastery
DESCRIPTION:
URL:https://vilafortunytraining.com/event/facial-mastery-2/
END:VEVENT
BEGIN:VEVENT
DTSTART;VALUE=DATE:20250630
DTEND;VALUE=DATE:20250701
DTSTAMP:20260423T114055
CREATED:20221216T123431Z
LAST-MODIFIED:20250127T085107Z
UID:4727-1751241600-1751327999@vilafortunytraining.com
SUMMARY:Lip Masterclass
DESCRIPTION:
URL:https://vilafortunytraining.com/event/mesotherapy-4/
END:VEVENT
BEGIN:VEVENT
DTSTART;VALUE=DATE:20250628
DTEND;VALUE=DATE:20250630
DTSTAMP:20260423T114055
CREATED:20240123T074618Z
LAST-MODIFIED:20250120T134231Z
UID:5985-1751068800-1751241599@vilafortunytraining.com
SUMMARY:Fillers & Botox
DESCRIPTION:
URL:https://vilafortunytraining.com/event/fillers-botox-5/
END:VEVENT
BEGIN:VEVENT
DTSTART;VALUE=DATE:20250610
DTEND;VALUE=DATE:20250615
DTSTAMP:20260423T114055
CREATED:20240123T074947Z
LAST-MODIFIED:20250120T130827Z
UID:5994-1749513600-1749945599@vilafortunytraining.com
SUMMARY:Laser Technician
DESCRIPTION:
URL:https://vilafortunytraining.com/event/laser-technician-7/
END:VEVENT
BEGIN:VEVENT
DTSTART;VALUE=DATE:20250524
DTEND;VALUE=DATE:20250526
DTSTAMP:20260423T114055
CREATED:20240123T075006Z
LAST-MODIFIED:20250120T130755Z
UID:5995-1748044800-1748217599@vilafortunytraining.com
SUMMARY:Fillers & Botox
DESCRIPTION:
URL:https://vilafortunytraining.com/event/fillers-botox-7/
END:VEVENT
BEGIN:VEVENT
DTSTART;VALUE=DATE:20250521
DTEND;VALUE=DATE:20250524
DTSTAMP:20260423T114055
CREATED:20240123T075326Z
LAST-MODIFIED:20250120T123007Z
UID:6007-1747785600-1748044799@vilafortunytraining.com
SUMMARY:Laser Aesthetics
DESCRIPTION:
URL:https://vilafortunytraining.com/event/laser-aesthetics-3/
END:VEVENT
BEGIN:VEVENT
DTSTART;VALUE=DATE:20250513
DTEND;VALUE=DATE:20250518
DTSTAMP:20260423T114055
CREATED:20240123T075104Z
LAST-MODIFIED:20250120T130607Z
UID:5998-1747094400-1747526399@vilafortunytraining.com
SUMMARY:Laser Technician
DESCRIPTION:
URL:https://vilafortunytraining.com/event/laser-technician-8/
END:VEVENT
BEGIN:VEVENT
DTSTART;VALUE=DATE:20250430
DTEND;VALUE=DATE:20250501
DTSTAMP:20260423T114055
CREATED:20250127T103940Z
LAST-MODIFIED:20250127T104209Z
UID:6454-1745971200-1746057599@vilafortunytraining.com
SUMMARY:Advanced Injectables
DESCRIPTION:
URL:https://vilafortunytraining.com/event/advanced-injectables-2/
END:VEVENT
BEGIN:VEVENT
DTSTART;VALUE=DATE:20250429
DTEND;VALUE=DATE:20250430
DTSTAMP:20260423T114055
CREATED:20250127T084041Z
LAST-MODIFIED:20250127T084118Z
UID:6442-1745884800-1745971199@vilafortunytraining.com
SUMMARY:Facial Mastery
DESCRIPTION:
URL:https://vilafortunytraining.com/event/facial-mastery/
END:VEVENT
BEGIN:VEVENT
DTSTART;VALUE=DATE:20250428
DTEND;VALUE=DATE:20250429
DTSTAMP:20260423T114055
CREATED:20240123T073405Z
LAST-MODIFIED:20250127T082454Z
UID:5963-1745798400-1745884799@vilafortunytraining.com
SUMMARY:Lip Masterclass
DESCRIPTION:
URL:https://vilafortunytraining.com/event/laser-technician/
END:VEVENT
BEGIN:VEVENT
DTSTART;VALUE=DATE:20250426
DTEND;VALUE=DATE:20250428
DTSTAMP:20260423T114055
CREATED:20240123T075235Z
LAST-MODIFIED:20250120T123309Z
UID:6003-1745625600-1745798399@vilafortunytraining.com
SUMMARY:Fillers & Botox
DESCRIPTION:
URL:https://vilafortunytraining.com/event/fillers-botox-8/
END:VEVENT
BEGIN:VEVENT
DTSTART;VALUE=DATE:20250425
DTEND;VALUE=DATE:20250426
DTSTAMP:20260423T114055
CREATED:20240123T075206Z
LAST-MODIFIED:20250120T125748Z
UID:6002-1745539200-1745625599@vilafortunytraining.com
SUMMARY:Chemical Peels
DESCRIPTION:
URL:https://vilafortunytraining.com/event/chemical-peels-6/
END:VEVENT
BEGIN:VEVENT
DTSTART;VALUE=DATE:20250424
DTEND;VALUE=DATE:20250425
DTSTAMP:20260423T114055
CREATED:20240123T075128Z
LAST-MODIFIED:20250120T125814Z
UID:6000-1745452800-1745539199@vilafortunytraining.com
SUMMARY:Mesotherapy
DESCRIPTION:
URL:https://vilafortunytraining.com/event/mesotherapy-7/
END:VEVENT
BEGIN:VEVENT
DTSTART;VALUE=DATE:20250408
DTEND;VALUE=DATE:20250413
DTSTAMP:20260423T114055
CREATED:20240123T075306Z
LAST-MODIFIED:20250120T123232Z
UID:6006-1744070400-1744502399@vilafortunytraining.com
SUMMARY:Laser Technician
DESCRIPTION:
URL:https://vilafortunytraining.com/event/laser-technician-9/
END:VEVENT
BEGIN:VEVENT
DTSTART;VALUE=DATE:20250322
DTEND;VALUE=DATE:20250324
DTSTAMP:20260423T114055
CREATED:20240123T075411Z
LAST-MODIFIED:20250120T120004Z
UID:6011-1742601600-1742774399@vilafortunytraining.com
SUMMARY:Fillers & Botox
DESCRIPTION:
URL:https://vilafortunytraining.com/event/fillers-botox-9/
END:VEVENT
BEGIN:VEVENT
DTSTART;VALUE=DATE:20250311
DTEND;VALUE=DATE:20250316
DTSTAMP:20260423T114055
CREATED:20240123T075433Z
LAST-MODIFIED:20250120T115902Z
UID:6010-1741651200-1742083199@vilafortunytraining.com
SUMMARY:Laser Technician
DESCRIPTION:
URL:https://vilafortunytraining.com/event/laser-technician-10/
END:VEVENT
BEGIN:VEVENT
DTSTART;VALUE=DATE:20250226
DTEND;VALUE=DATE:20250227
DTSTAMP:20260423T114055
CREATED:20250127T085842Z
LAST-MODIFIED:20250127T103846Z
UID:6452-1740528000-1740614399@vilafortunytraining.com
SUMMARY:Advanced Injectables
DESCRIPTION:
URL:https://vilafortunytraining.com/event/advanced-injectables/
END:VEVENT
BEGIN:VEVENT
DTSTART;VALUE=DATE:20250225
DTEND;VALUE=DATE:20250226
DTSTAMP:20260423T114055
CREATED:20230410T113100Z
LAST-MODIFIED:20250127T083956Z
UID:5542-1740441600-1740527999@vilafortunytraining.com
SUMMARY:Facial Mastery
DESCRIPTION:
URL:https://vilafortunytraining.com/event/soft-tissue-fillers-5/
END:VEVENT
BEGIN:VEVENT
DTSTART;VALUE=DATE:20250224
DTEND;VALUE=DATE:20250225
DTSTAMP:20260423T114055
CREATED:20240123T075859Z
LAST-MODIFIED:20250127T085215Z
UID:6027-1740355200-1740441599@vilafortunytraining.com
SUMMARY:Lip Masterclass
DESCRIPTION:
URL:https://vilafortunytraining.com/event/laser-technician-13/
END:VEVENT
BEGIN:VEVENT
DTSTART;VALUE=DATE:20250222
DTEND;VALUE=DATE:20250224
DTSTAMP:20260423T114055
CREATED:20240123T075519Z
LAST-MODIFIED:20250120T113748Z
UID:6014-1740182400-1740355199@vilafortunytraining.com
SUMMARY:Fillers & Botox
DESCRIPTION:
URL:https://vilafortunytraining.com/event/fillers-botox-10/
END:VEVENT
BEGIN:VEVENT
DTSTART;VALUE=DATE:20250219
DTEND;VALUE=DATE:20250222
DTSTAMP:20260423T114055
CREATED:20240123T075841Z
LAST-MODIFIED:20250120T112902Z
UID:6026-1739923200-1740182399@vilafortunytraining.com
SUMMARY:Laser Aesthetics
DESCRIPTION:
URL:https://vilafortunytraining.com/event/laser-aesthetics-4/
END:VEVENT
BEGIN:VEVENT
DTSTART;VALUE=DATE:20250211
DTEND;VALUE=DATE:20250216
DTSTAMP:20260423T114055
CREATED:20240123T075542Z
LAST-MODIFIED:20250120T113617Z
UID:6015-1739232000-1739663999@vilafortunytraining.com
SUMMARY:Laser Technician
DESCRIPTION:
URL:https://vilafortunytraining.com/event/laser-technician-11/
END:VEVENT
BEGIN:VEVENT
DTSTART;VALUE=DATE:20250131
DTEND;VALUE=DATE:20250201
DTSTAMP:20260423T114055
CREATED:20240123T075639Z
LAST-MODIFIED:20250120T113513Z
UID:6019-1738281600-1738367999@vilafortunytraining.com
SUMMARY:Chemical Peels
DESCRIPTION:
URL:https://vilafortunytraining.com/event/chemical-peels-7/
END:VEVENT
BEGIN:VEVENT
DTSTART;VALUE=DATE:20250125
DTEND;VALUE=DATE:20250127
DTSTAMP:20260423T114055
CREATED:20240123T075722Z
LAST-MODIFIED:20250120T113220Z
UID:6022-1737763200-1737935999@vilafortunytraining.com
SUMMARY:Fillers & Botox
DESCRIPTION:
URL:https://vilafortunytraining.com/event/fillers-botox-11/
END:VEVENT
BEGIN:VEVENT
DTSTART;VALUE=DATE:20250123
DTEND;VALUE=DATE:20250124
DTSTAMP:20260423T114055
CREATED:20240123T075619Z
LAST-MODIFIED:20250120T113543Z
UID:6018-1737590400-1737676799@vilafortunytraining.com
SUMMARY:Mesotherapy
DESCRIPTION:
URL:https://vilafortunytraining.com/event/mesotherapy-8/
END:VEVENT
BEGIN:VEVENT
DTSTART;VALUE=DATE:20250114
DTEND;VALUE=DATE:20250119
DTSTAMP:20260423T114055
CREATED:20240123T075746Z
LAST-MODIFIED:20250106T145310Z
UID:6023-1736812800-1737244799@vilafortunytraining.com
SUMMARY:Laser Technician
DESCRIPTION:
URL:https://vilafortunytraining.com/event/laser-technician-12/
END:VEVENT
BEGIN:VEVENT
DTSTART;VALUE=DATE:20231024
DTEND;VALUE=DATE:20231026
DTSTAMP:20260423T114055
CREATED:20221216T123756Z
LAST-MODIFIED:20221216T123756Z
UID:4735-1698105600-1698278399@vilafortunytraining.com
SUMMARY:Chemical Peels
DESCRIPTION:
URL:https://vilafortunytraining.com/event/chemical-peels-3/
END:VEVENT
BEGIN:VEVENT
DTSTART;VALUE=DATE:20231010
DTEND;VALUE=DATE:20231015
DTSTAMP:20260423T114055
CREATED:20221216T115237Z
LAST-MODIFIED:20230105T135954Z
UID:4689-1696896000-1697327999@vilafortunytraining.com
SUMMARY:Laser Training
DESCRIPTION:
URL:https://vilafortunytraining.com/event/laser-training-10/
END:VEVENT
BEGIN:VEVENT
DTSTART;VALUE=DATE:20230923
DTEND;VALUE=DATE:20230925
DTSTAMP:20260423T114055
CREATED:20221216T121424Z
LAST-MODIFIED:20221216T121424Z
UID:4703-1695427200-1695599999@vilafortunytraining.com
SUMMARY:Botulinum Toxins
DESCRIPTION:
URL:https://vilafortunytraining.com/event/botulinum-toxins-5/
END:VEVENT
END:VCALENDAR