BEGIN:VCALENDAR
VERSION:2.0
PRODID:-//Vilafortunytraining - ECPv6.2.9//NONSGML v1.0//EN
CALSCALE:GREGORIAN
METHOD:PUBLISH
X-WR-CALNAME:Vilafortunytraining
X-ORIGINAL-URL:https://vilafortunytraining.com
X-WR-CALDESC:Events for Vilafortunytraining
REFRESH-INTERVAL;VALUE=DURATION:PT1H
X-Robots-Tag:noindex
X-PUBLISHED-TTL:PT1H
BEGIN:VTIMEZONE
TZID:UTC
BEGIN:STANDARD
TZOFFSETFROM:+0000
TZOFFSETTO:+0000
TZNAME:UTC
DTSTART:20250101T000000
END:STANDARD
END:VTIMEZONE
BEGIN:VEVENT
DTSTART;VALUE=DATE:20251223
DTEND;VALUE=DATE:20251224
DTSTAMP:20260422T221316
CREATED:20250127T084822Z
LAST-MODIFIED:20250127T084822Z
UID:6450-1766448000-1766534399@vilafortunytraining.com
SUMMARY:Facial Mastery
DESCRIPTION:
URL:https://vilafortunytraining.com/event/facial-mastery-5/
END:VEVENT
BEGIN:VEVENT
DTSTART;VALUE=DATE:20251222
DTEND;VALUE=DATE:20251223
DTSTAMP:20260422T221316
CREATED:20221216T115358Z
LAST-MODIFIED:20250127T083320Z
UID:4691-1766361600-1766447999@vilafortunytraining.com
SUMMARY:Lip Masterclass
DESCRIPTION:
URL:https://vilafortunytraining.com/event/laser-training-11/
END:VEVENT
BEGIN:VEVENT
DTSTART;VALUE=DATE:20251220
DTEND;VALUE=DATE:20251222
DTSTAMP:20260422T221316
CREATED:20221216T122234Z
LAST-MODIFIED:20250127T080421Z
UID:4717-1766188800-1766361599@vilafortunytraining.com
SUMMARY:Fillers & Botox
DESCRIPTION:
URL:https://vilafortunytraining.com/event/soft-tissue-fillers-6/
END:VEVENT
BEGIN:VEVENT
DTSTART;VALUE=DATE:20251209
DTEND;VALUE=DATE:20251214
DTSTAMP:20260422T221316
CREATED:20240123T073034Z
LAST-MODIFIED:20250127T081830Z
UID:5959-1765238400-1765670399@vilafortunytraining.com
SUMMARY:Laser Technician
DESCRIPTION:
URL:https://vilafortunytraining.com/event/laser-technician-2/
END:VEVENT
BEGIN:VEVENT
DTSTART;VALUE=DATE:20251122
DTEND;VALUE=DATE:20251124
DTSTAMP:20260422T221316
CREATED:20240123T074739Z
LAST-MODIFIED:20250120T135258Z
UID:5991-1763769600-1763942399@vilafortunytraining.com
SUMMARY:Fillers & Botox
DESCRIPTION:
URL:https://vilafortunytraining.com/event/fillers-botox-6/
END:VEVENT
BEGIN:VEVENT
DTSTART;VALUE=DATE:20251119
DTEND;VALUE=DATE:20251122
DTSTAMP:20260422T221316
CREATED:20240123T074156Z
LAST-MODIFIED:20250127T075222Z
UID:5972-1763510400-1763769599@vilafortunytraining.com
SUMMARY:Laser Aesthetics
DESCRIPTION:
URL:https://vilafortunytraining.com/event/laser-aesthetics/
END:VEVENT
BEGIN:VEVENT
DTSTART;VALUE=DATE:20251111
DTEND;VALUE=DATE:20251116
DTSTAMP:20260422T221316
CREATED:20240123T074120Z
LAST-MODIFIED:20250127T075618Z
UID:5970-1762819200-1763251199@vilafortunytraining.com
SUMMARY:Laser Technician
DESCRIPTION:
URL:https://vilafortunytraining.com/event/laser-technician-3/
END:VEVENT
BEGIN:VEVENT
DTSTART;VALUE=DATE:20251029
DTEND;VALUE=DATE:20251030
DTSTAMP:20260422T221316
CREATED:20250127T105850Z
LAST-MODIFIED:20250127T105850Z
UID:6460-1761696000-1761782399@vilafortunytraining.com
SUMMARY:Advanced Injectables
DESCRIPTION:
URL:https://vilafortunytraining.com/event/advanced-injectables-5/
END:VEVENT
BEGIN:VEVENT
DTSTART;VALUE=DATE:20251028
DTEND;VALUE=DATE:20251029
DTSTAMP:20260422T221316
CREATED:20250127T084340Z
LAST-MODIFIED:20250127T084340Z
UID:6448-1761609600-1761695999@vilafortunytraining.com
SUMMARY:Facial Mastery
DESCRIPTION:
URL:https://vilafortunytraining.com/event/facial-mastery-4/
END:VEVENT
BEGIN:VEVENT
DTSTART;VALUE=DATE:20251027
DTEND;VALUE=DATE:20251028
DTSTAMP:20260422T221316
CREATED:20221216T121529Z
LAST-MODIFIED:20250127T084955Z
UID:4705-1761523200-1761609599@vilafortunytraining.com
SUMMARY:Lip Masterclass
DESCRIPTION:
URL:https://vilafortunytraining.com/event/botulinum-toxins-6/
END:VEVENT
BEGIN:VEVENT
DTSTART;VALUE=DATE:20251025
DTEND;VALUE=DATE:20251027
DTSTAMP:20260422T221316
CREATED:20240123T072651Z
LAST-MODIFIED:20250120T135224Z
UID:5957-1761350400-1761523199@vilafortunytraining.com
SUMMARY:Fillers & Botox
DESCRIPTION:
URL:https://vilafortunytraining.com/event/fillers-botox/
END:VEVENT
BEGIN:VEVENT
DTSTART;VALUE=DATE:20251024
DTEND;VALUE=DATE:20251025
DTSTAMP:20260422T221316
CREATED:20240123T074018Z
LAST-MODIFIED:20250127T080001Z
UID:5966-1761264000-1761350399@vilafortunytraining.com
SUMMARY:Chemical Peels
DESCRIPTION:
URL:https://vilafortunytraining.com/event/chemical-peels-4/
END:VEVENT
BEGIN:VEVENT
DTSTART;VALUE=DATE:20251023
DTEND;VALUE=DATE:20251024
DTSTAMP:20260422T221316
CREATED:20240123T073147Z
LAST-MODIFIED:20250127T080131Z
UID:5961-1761177600-1761263999@vilafortunytraining.com
SUMMARY:Mesotherapy
DESCRIPTION:
URL:https://vilafortunytraining.com/event/mesotherapy-5/
END:VEVENT
BEGIN:VEVENT
DTSTART;VALUE=DATE:20251014
DTEND;VALUE=DATE:20251019
DTSTAMP:20260422T221316
CREATED:20240123T074430Z
LAST-MODIFIED:20250120T134059Z
UID:5980-1760400000-1760831999@vilafortunytraining.com
SUMMARY:Laser Technician
DESCRIPTION:
URL:https://vilafortunytraining.com/event/laser-technician-5/
END:VEVENT
BEGIN:VEVENT
DTSTART;VALUE=DATE:20250927
DTEND;VALUE=DATE:20250929
DTSTAMP:20260422T221316
CREATED:20240123T074039Z
LAST-MODIFIED:20250120T135144Z
UID:5967-1758931200-1759103999@vilafortunytraining.com
SUMMARY:Fillers & Botox
DESCRIPTION:
URL:https://vilafortunytraining.com/event/fillers-botox-2/
END:VEVENT
BEGIN:VEVENT
DTSTART;VALUE=DATE:20250903
DTEND;VALUE=DATE:20250904
DTSTAMP:20260422T221316
CREATED:20250127T104425Z
LAST-MODIFIED:20250127T105811Z
UID:6458-1756857600-1756943999@vilafortunytraining.com
SUMMARY:Advanced Injectables
DESCRIPTION:
URL:https://vilafortunytraining.com/event/advanced-injectables-4/
END:VEVENT
BEGIN:VEVENT
DTSTART;VALUE=DATE:20250902
DTEND;VALUE=DATE:20250903
DTSTAMP:20260422T221316
CREATED:20250127T084254Z
LAST-MODIFIED:20250127T084254Z
UID:6446-1756771200-1756857599@vilafortunytraining.com
SUMMARY:Facial Mastery
DESCRIPTION:
URL:https://vilafortunytraining.com/event/facial-mastery-3/
END:VEVENT
BEGIN:VEVENT
DTSTART;VALUE=DATE:20250901
DTEND;VALUE=DATE:20250902
DTSTAMP:20260422T221316
CREATED:20221216T115445Z
LAST-MODIFIED:20250127T082716Z
UID:4693-1756684800-1756771199@vilafortunytraining.com
SUMMARY:Lip Masterclass
DESCRIPTION:
URL:https://vilafortunytraining.com/event/laser-training-12/
END:VEVENT
BEGIN:VEVENT
DTSTART;VALUE=DATE:20250830
DTEND;VALUE=DATE:20250901
DTSTAMP:20260422T221316
CREATED:20240123T074252Z
LAST-MODIFIED:20250120T135113Z
UID:5974-1756512000-1756684799@vilafortunytraining.com
SUMMARY:Fillers & Botox
DESCRIPTION:
URL:https://vilafortunytraining.com/event/fillers-botox-3/
END:VEVENT
BEGIN:VEVENT
DTSTART;VALUE=DATE:20250827
DTEND;VALUE=DATE:20250830
DTSTAMP:20260422T221316
CREATED:20240123T074718Z
LAST-MODIFIED:20250120T131820Z
UID:5990-1756252800-1756511999@vilafortunytraining.com
SUMMARY:Laser Aesthetics
DESCRIPTION:
URL:https://vilafortunytraining.com/event/laser-aesthetics-2/
END:VEVENT
BEGIN:VEVENT
DTSTART;VALUE=DATE:20250726
DTEND;VALUE=DATE:20250728
DTSTAMP:20260422T221317
CREATED:20240123T074358Z
LAST-MODIFIED:20250120T134919Z
UID:5978-1753488000-1753660799@vilafortunytraining.com
SUMMARY:Fillers & Botox
DESCRIPTION:
URL:https://vilafortunytraining.com/event/fillers-botox-4/
END:VEVENT
BEGIN:VEVENT
DTSTART;VALUE=DATE:20250726
DTEND;VALUE=DATE:20250728
DTSTAMP:20260422T221317
CREATED:20240123T074331Z
LAST-MODIFIED:20250120T135021Z
UID:5976-1753488000-1753660799@vilafortunytraining.com
SUMMARY:Laser Technician
DESCRIPTION:
URL:https://vilafortunytraining.com/event/laser-technician-4/
END:VEVENT
BEGIN:VEVENT
DTSTART;VALUE=DATE:20250725
DTEND;VALUE=DATE:20250726
DTSTAMP:20260422T221317
CREATED:20240123T074545Z
LAST-MODIFIED:20250120T132932Z
UID:5984-1753401600-1753487999@vilafortunytraining.com
SUMMARY:Chemical Peels
DESCRIPTION:
URL:https://vilafortunytraining.com/event/chemical-peels-5/
END:VEVENT
BEGIN:VEVENT
DTSTART;VALUE=DATE:20250724
DTEND;VALUE=DATE:20250725
DTSTAMP:20260422T221317
CREATED:20240125T100851Z
LAST-MODIFIED:20250120T133957Z
UID:6092-1753315200-1753401599@vilafortunytraining.com
SUMMARY:Mesotherapy
DESCRIPTION:
URL:https://vilafortunytraining.com/event/mesotherapy-9/
END:VEVENT
BEGIN:VEVENT
DTSTART;VALUE=DATE:20250708
DTEND;VALUE=DATE:20250713
DTSTAMP:20260422T221317
CREATED:20240123T074642Z
LAST-MODIFIED:20250120T131904Z
UID:5987-1751932800-1752364799@vilafortunytraining.com
SUMMARY:Laser Technician
DESCRIPTION:
URL:https://vilafortunytraining.com/event/laser-technician-6/
END:VEVENT
BEGIN:VEVENT
DTSTART;VALUE=DATE:20250702
DTEND;VALUE=DATE:20250703
DTSTAMP:20260422T221317
CREATED:20250127T104346Z
LAST-MODIFIED:20250127T104346Z
UID:6456-1751414400-1751500799@vilafortunytraining.com
SUMMARY:Advanced Injectables
DESCRIPTION:
URL:https://vilafortunytraining.com/event/advanced-injectables-3/
END:VEVENT
BEGIN:VEVENT
DTSTART;VALUE=DATE:20250701
DTEND;VALUE=DATE:20250702
DTSTAMP:20260422T221317
CREATED:20250127T084205Z
LAST-MODIFIED:20250127T084205Z
UID:6444-1751328000-1751414399@vilafortunytraining.com
SUMMARY:Facial Mastery
DESCRIPTION:
URL:https://vilafortunytraining.com/event/facial-mastery-2/
END:VEVENT
BEGIN:VEVENT
DTSTART;VALUE=DATE:20250630
DTEND;VALUE=DATE:20250701
DTSTAMP:20260422T221317
CREATED:20221216T123431Z
LAST-MODIFIED:20250127T085107Z
UID:4727-1751241600-1751327999@vilafortunytraining.com
SUMMARY:Lip Masterclass
DESCRIPTION:
URL:https://vilafortunytraining.com/event/mesotherapy-4/
END:VEVENT
BEGIN:VEVENT
DTSTART;VALUE=DATE:20250628
DTEND;VALUE=DATE:20250630
DTSTAMP:20260422T221317
CREATED:20240123T074618Z
LAST-MODIFIED:20250120T134231Z
UID:5985-1751068800-1751241599@vilafortunytraining.com
SUMMARY:Fillers & Botox
DESCRIPTION:
URL:https://vilafortunytraining.com/event/fillers-botox-5/
END:VEVENT
BEGIN:VEVENT
DTSTART;VALUE=DATE:20250610
DTEND;VALUE=DATE:20250615
DTSTAMP:20260422T221317
CREATED:20240123T074947Z
LAST-MODIFIED:20250120T130827Z
UID:5994-1749513600-1749945599@vilafortunytraining.com
SUMMARY:Laser Technician
DESCRIPTION:
URL:https://vilafortunytraining.com/event/laser-technician-7/
END:VEVENT
END:VCALENDAR