BEGIN:VCALENDAR
VERSION:2.0
PRODID:-//Vilafortunytraining - ECPv6.2.9//NONSGML v1.0//EN
CALSCALE:GREGORIAN
METHOD:PUBLISH
X-ORIGINAL-URL:https://vilafortunytraining.com
X-WR-CALDESC:Events for Vilafortunytraining
REFRESH-INTERVAL;VALUE=DURATION:PT1H
X-Robots-Tag:noindex
X-PUBLISHED-TTL:PT1H
BEGIN:VTIMEZONE
TZID:UTC
BEGIN:STANDARD
TZOFFSETFROM:+0000
TZOFFSETTO:+0000
TZNAME:UTC
DTSTART:20250101T000000
END:STANDARD
END:VTIMEZONE
BEGIN:VEVENT
DTSTART;VALUE=DATE:20251209
DTEND;VALUE=DATE:20251214
DTSTAMP:20260422T221644
CREATED:20240123T073034Z
LAST-MODIFIED:20250127T081830Z
UID:5959-1765238400-1765670399@vilafortunytraining.com
SUMMARY:Laser Technician
DESCRIPTION:
URL:https://vilafortunytraining.com/event/laser-technician-2/
END:VEVENT
BEGIN:VEVENT
DTSTART;VALUE=DATE:20251220
DTEND;VALUE=DATE:20251222
DTSTAMP:20260422T221644
CREATED:20221216T122234Z
LAST-MODIFIED:20250127T080421Z
UID:4717-1766188800-1766361599@vilafortunytraining.com
SUMMARY:Fillers & Botox
DESCRIPTION:
URL:https://vilafortunytraining.com/event/soft-tissue-fillers-6/
END:VEVENT
BEGIN:VEVENT
DTSTART;VALUE=DATE:20251222
DTEND;VALUE=DATE:20251223
DTSTAMP:20260422T221644
CREATED:20221216T115358Z
LAST-MODIFIED:20250127T083320Z
UID:4691-1766361600-1766447999@vilafortunytraining.com
SUMMARY:Lip Masterclass
DESCRIPTION:
URL:https://vilafortunytraining.com/event/laser-training-11/
END:VEVENT
BEGIN:VEVENT
DTSTART;VALUE=DATE:20251223
DTEND;VALUE=DATE:20251224
DTSTAMP:20260422T221644
CREATED:20250127T084822Z
LAST-MODIFIED:20250127T084822Z
UID:6450-1766448000-1766534399@vilafortunytraining.com
SUMMARY:Facial Mastery
DESCRIPTION:
URL:https://vilafortunytraining.com/event/facial-mastery-5/
END:VEVENT
END:VCALENDAR